BEGIN:VCALENDAR
VERSION:2.0
PRODID:Events Booking
BEGIN:VEVENT
UID:69e82c976768e
SUMMARY:Agile Projekte oder warum es kein agiles Projektmanagement gibt
DESCRIPTION:Kann ein \"agiles Projekt“ ohne Projektleiter funktionieren? 
 Kann ein\" klassisches\" Projekt ohne Scrum Master und Product Owner auch 
 agil sein?Warum die Rolle des Projektleiters weiterhin eine Zukunft hat un
 d auch Projekte mit nicht-agilem Vorgehen hoch agil sein können\, werden 
 an diesem Abend aufgezeigt und diskutiert.
LOCATION:Riesaer Straße\, Dresden\, 01129 Sachsen\, Deutschland
DTSTART:20230417T160000Z
DTEND:20230417T180000Z
DTSTAMP:20230328T130823Z
ORGANIZER;CN=PMI Germany Chapter e.V.:MAILTO:website@pmi-gc.de
GEO:51.082284;13.724818
X-APPLE-STRUCTURED-LOCATION;VALUE=URI;X-ADDRESS=Riesaer Straße\, Dresden\,
  01129 Sachsen\, Deutschland;X-APPLE-RADIUS=72;X-TITLE=T-Systems Multimedi
 a Solutions GmbH:51.082284;13.724818
END:VEVENT
END:VCALENDAR