BEGIN:VCALENDAR
VERSION:2.0
PRODID:Events Booking
BEGIN:VEVENT
UID:69e7aa7f5e087
SUMMARY:Attacks on critical infrastructures
DESCRIPTION:The english speaking round table Region South invites you to at
 tend \"Attacks on critical infrastructures\"
 Speaker:&nbsp\;
 Chanaka P
 erera
 Jutta Zilian
 Topics:
 
 Critical Infrastructure (KRITIS) what 
 it is and which organisations and institutions with a social function are 
 in
 Latest attacks on critical infrastructure
 cyberattacks and attack v
 ectors
 NIS 2 regulation and the directive on NIS 2 regulation implementa
 tion.
 
 We will use Teams\, link will be provided latest the day prior 
 to the event.
 Best\,
 Jutta &amp\; Chanaka
DTSTART:20231030T170000Z
DTEND:20231030T180000Z
DTSTAMP:20230915T103720Z
ORGANIZER;CN=PMI Germany Chapter e.V.:MAILTO:website@pmi-gc.de
END:VEVENT
END:VCALENDAR