BEGIN:VCALENDAR
VERSION:2.0
PRODID:Events Booking
BEGIN:VEVENT
UID:69e817a5d0cf8
SUMMARY:PMI Chapter Xchange: Building Your Brand as a Project Manager
DESCRIPTION:
 Attention all project professionals and aspiring leaders! Ar
 e you Ready to unlock your full potential and Build your BRAND as a Projec
 t Manager!&nbsp\;
 
 Join us on May 19th for our collaborative Chapter X
 change event and discover how to lead with empathy\, build relationships\,
  and drive project success while empowering your team.&nbsp\;
 #pmichapte
 rXchange collaborative event of 24-way collaboration between the PMI Chapt
 ers of\; Mumbai\, Netherlands\, South Africa\, Sri Lanka\, Phoenix\, New Z
 ealand\, Zimbabwe\, Indonesia\, Gujarat\, Lima Peru\, Southern Alberta\, S
 ao Paulo\, Kenya\, Ghana\, Greece\, Puget Sound\, Poland\, Alaska\, United
  Arab Emirates\, Bangladesh\, Nigeria\, Cameroon\, Germany\, and Turkiye w
 hile we explore BRAND to Win - Build your BRAND as a Project Manager!&nbsp
 \;
 Our supporting chapters are PMI Japan\, PMI Madrid Spain\, and PMI Lu
 xembourg. Spotlight Chapters are PMI Netherlands and PMI Germany.&nbsp\;

  Don't miss this opportunity to connect with project leaders and managers 
 from 24 PMI Chapters worldwide. Register now and take the first step towar
 ds building your brand and accelerating your career!&nbsp\;
 Date: May 19
 \, 2023
 Time: 16:00 – 18:00 Hrs CEST
DTSTART:20230519T140000Z
DTEND:20230519T160000Z
DTSTAMP:20230421T152740Z
ORGANIZER;CN=PMI Germany Chapter e.V.:MAILTO:website@pmi-gc.de
END:VEVENT
END:VCALENDAR