BEGIN:VCALENDAR
VERSION:2.0
PRODID:Events Booking
BEGIN:VEVENT
UID:69e8f1d08d6bc
SUMMARY:Chapter Meeting Frankfurt Juli 2022
DESCRIPTION:Wir treffen uns wieder persönlich vor Ort im Ka-eins im Ökoha
 us in Frankfurt
 Die Veranstaltung ist für Chapter-Mitglieder frei!
 Pr
 ojektmanagement der Zukunft
 Vortragen wird Dr. Martin Bertram\, VP der R
 egion Central im PMI Germany Chapter.
 Im Vortrag werden vorgestellt:
 
 
 Globale Trends im Projektmanagement
 Welche Anforderungen an die Projek
 tmanager ergeben sich daraus
 Wie stellt sich PMI darauf ein
 
 Anschli
 eßend ist viel Raum für Diskussionen.
 Im 2. Teil wollen wir besprechen
 \, wie das PMI Germany Chapter seine Mitglieder auf diesem Pfad unterstüt
 zen soll.
LOCATION:Kasseler Straße 1A \, Frankfurt am Main\, 60486 Hessen\, Deutschl
 and
DTSTART:20220725T153000Z
DTEND:20220725T190000Z
DTSTAMP:20220701T073328Z
ORGANIZER;CN=PMI Germany Chapter e.V.:MAILTO:website@pmi-gc.de
GEO:50.120773;8.637514
X-APPLE-STRUCTURED-LOCATION;VALUE=URI;X-ADDRESS=Kasseler Straße 1A \, Fran
 kfurt am Main\, 60486 Hessen\, Deutschland;X-APPLE-RADIUS=72;X-TITLE=KA-ei
 ns im Ökohaus:50.120773;8.637514
END:VEVENT
END:VCALENDAR