BEGIN:VCALENDAR
VERSION:2.0
PRODID:Events Booking
BEGIN:VEVENT
UID:69e8b42d9ecde
SUMMARY:Chapter Meeting Frankfurt Oktober 2022
DESCRIPTION:
 Dr. Matthias Liermann\, Global Head of Product Management DW
 S bei DWS Group.Agiles Projektmanagement im globalen Produkt Management de
 r DWSAgiles Projektmanagement im globalen Produkt Management der DWSAgile 
 Formen der Zusammenarbeit entwickeln sich immer weiter aus dem Bereich der
  reinen Softwareentwicklung heraus. Dr. Matthias Liermann erläutert aus s
 einer unmittelbaren Praxiserfahrung\, wie die global agierenden Teams im P
 roduktmanagement der DWS Group von der selbstorganisierten Zusammenarbeit 
 profitieren und agile Praktiken und Methoden im \"Agile to Go\"-Ansatz ein
 geführt haben.
 Vortrag&nbsp\;Andreas Slogar\, Experte für den Aufbau a
 npassungsfähiger Unternehmen\, Deloitte ConsultingGroßprojekte durch Kyb
 ernetik erfolgreich umsetzenPlant ein Unternehmen ein großangelegtes Tran
 sformationsprojekt\, an dem mehr als 50\, 150 oder 250 Mitarbeitende betei
 ligt sind\, dann versteht man darunter ein komplexes Vorhaben. Komplex\, w
 eil die Dynamik des Projektgeschehens unvorhersagbar ist. Klassische Metho
 den des Projektmanagements scheitern an dieser Dynamik\, da sie nach Kontr
 olle und Steuerung durch Simplifizierung streben. Durch die Modelle und Pr
 inzipien der Kybernetik können Großprojekte mit beliebig vielen Beteilig
 ten\, Stakeholdern und Betroffenen in einer effizienten und effektiven Koo
 peration gebracht werden und so die Schwächen klassischen Projektmanageme
 nts kompensieren.Kostenfrei nur für PMI Chapter Mitglieder
 
 Die Veran
 staltung findet als Präsenzevent in den Räumen von&nbsp\;Deloitte Consul
 ting GmbH\;&nbsp\;Europa-Allee 91\, 60486 Frankfurt am Main statt.
 Monta
 g 31. Oktober 2022\; Einlass ab 17:30 Uhr\, beginn 18:00 Uhr.
 Kostenlose
  Teilnahme nur für Mitglieder des PMI Germany Chapters
 Fragen zur Veran
 staltung bitte an: Martin.Bertram@pmi-gc.de
LOCATION:Europa-Allee 91\, Frankfurt am Main\, 60486 Hessen\, Deutschland
DTSTART:20221031T163000Z
DTEND:20221031T200000Z
DTSTAMP:20220701T073928Z
ORGANIZER;CN=PMI Germany Chapter e.V.:MAILTO:website@pmi-gc.de
GEO:50.107773;8.638295
X-APPLE-STRUCTURED-LOCATION;VALUE=URI;X-ADDRESS=Europa-Allee 91\, Frankfurt
  am Main\, 60486 Hessen\, Deutschland;X-APPLE-RADIUS=72;X-TITLE=Deloitte F
 rankfurt Büro:50.107773;8.638295
END:VEVENT
END:VCALENDAR