BEGIN:VCALENDAR
VERSION:2.0
PRODID:Events Booking
BEGIN:VEVENT
UID:69e7ec29a9f19
SUMMARY:Chapter Meeting Stuttgart Juli 2023 - Über Werte und Kompetenz zu 
 Nachhaltigkeit
DESCRIPTION:Dank unseres Chapter Sponsoren PS Consulting GmbH (https://www.
 psconsult.de/)\, der am 17. Juli zum Chapter Meeting in Haiterbach bei Stu
 ttgart bittet\, gibt es einen bunten Abend für alle Chapter Mitglieder un
 d solche\, die es noch werden wollen. Programmbestandteile sind Power Skil
 ls\, Werte und Nachhaltigkeit im Projektmanagement.
LOCATION:Horber Straße\, Haiterbach\, 72221 Baden-Württemberg\, Deutschla
 nd
DTSTART:20230717T160000Z
DTEND:20230717T190000Z
DTSTAMP:20221119T061449Z
ORGANIZER;CN=PMI Germany Chapter e.V.:MAILTO:website@pmi-gc.de
GEO:48.517181;8.648012
X-APPLE-STRUCTURED-LOCATION;VALUE=URI;X-ADDRESS=Horber Straße\, Haiterbach
 \, 72221 Baden-Württemberg\, Deutschland;X-APPLE-RADIUS=72;X-TITLE=PS Con
 sulting GmbH:48.517181;8.648012
END:VEVENT
END:VCALENDAR