BEGIN:VCALENDAR
VERSION:2.0
PRODID:Events Booking
BEGIN:VEVENT
UID:69e7c184bbfda
SUMMARY:Chapter Wiesn
DESCRIPTION:Wie jedes Jahr treffen wir uns zu einer Chapter Wiesn auf dem O
 ktoberfest.
 Traditionszelt auf der Oide Wiesn:
 https://www.oktoberfest
 zelt-tradition.de/
 Es freuen sich auf reges Kommen
 
 Jutta Zilian (VP
  Region Süd)
 Jens Liebold (VP Finance)
 
 Mitglieder des Vorstandes u
 nd Mitglieder der Region Süd
 Das Event ist für Mitglieder des PMI Germ
 any Chapters kostenfrei. Nicht Mitglieder zahlen Eintritt (4 €)\, als au
 ch Speis und Trank selbst.
 &nbsp\;
DTSTART:20230920T160000Z
DTEND:20230920T190000Z
DTSTAMP:20230630T085716Z
ORGANIZER;CN=PMI Germany Chapter e.V.:MAILTO:website@pmi-gc.de
END:VEVENT
END:VCALENDAR