BEGIN:VCALENDAR
VERSION:2.0
PRODID:Events Booking
BEGIN:VEVENT
UID:69e8aeafc12b5
SUMMARY:Wege in die Cloud - Migration und Optimierung
DESCRIPTION:3. Vortrag in der Reihe \"Wege in die Cloud\" der Cologne Group
  des PMI GC und der Community of Practice Citizen Development. An diesem A
 bend wird es um die Aspekte Migration und Optimierung gehen.&nbsp\;
DTSTART:20221025T160000Z
DTEND:20221025T180000Z
DTSTAMP:20221004T064653Z
ORGANIZER;CN=PMI Germany Chapter e.V.:MAILTO:website@pmi-gc.de
END:VEVENT
END:VCALENDAR