BEGIN:VCALENDAR
VERSION:2.0
PRODID:Events Booking
BEGIN:VEVENT
UID:69e872628b8a9
SUMMARY:Wege in die Cloud: Cloud-Provider: Auswahl und Vertrag
DESCRIPTION:Die Cologne Group und die Community of Practice Citizen Develop
 ment des PMI Germany Chapters laden Sie am 17. Januar ein zum 5. Online-Vo
 rtrag in der Reihe:Wege in die Cloud - Providerauswahl und Vertrag
DTSTART:20230117T170000Z
DTEND:20230117T190000Z
DTSTAMP:20230107T064355Z
ORGANIZER;CN=PMI Germany Chapter e.V.:MAILTO:website@pmi-gc.de
END:VEVENT
END:VCALENDAR