BEGIN:VCALENDAR
VERSION:2.0
PRODID:Events Booking
BEGIN:VEVENT
UID:69e74f5b43cac
SUMMARY:CoP Energy | Kick-off Meeting des Relaunches
DESCRIPTION:Kick-off Meeting der CoP Energy am 14.10.2025!
DTSTART:20251014T153000Z
DTEND:20251014T163000Z
DTSTAMP:20250927T154242Z
ORGANIZER;CN=PMI Germany Chapter e.V.:MAILTO:website@pmi-gc.de
END:VEVENT
END:VCALENDAR