BEGIN:VCALENDAR
VERSION:2.0
PRODID:Events Booking
BEGIN:VEVENT
UID:69eb8d799a7f2
SUMMARY:CoP Life-Sciences\; Kick-Off Meeting
DESCRIPTION:die Community of Practice(CoP) Life-Sciences\, eine Arbeitsgrup
 pe von engagierter Mitglieder des PMI-German Chapter\, lädt Sie herzlich 
 zu ihrem ersten offizielle „Kick-Off-Meeting“ ein.&nbsp\; 
 &nbsp\;

  &nbsp\;
 Inhalt (Online Event):1) Vorstellung der CoP Life-Sciences&nbsp
 \;&nbsp\;2) Bericht über die Ergebnisse der Umfrage3) Fragerunde und Disk
 ussion
DTSTART:20240222T173000Z
DTEND:20240222T183000Z
DTSTAMP:20240124T144143Z
ORGANIZER;CN=PMI Germany Chapter e.V.:MAILTO:website@pmi-gc.de
END:VEVENT
END:VCALENDAR