BEGIN:VCALENDAR
VERSION:2.0
PRODID:Events Booking
BEGIN:VEVENT
UID:69e8754ecc25f
SUMMARY:Community of Practice PMO - offene Veranstaltung
DESCRIPTION:Willkommen in der CoP PMO\,
 &nbsp\;
 der Community of Practi
 ce für Projekt-\, Programm- und Portfoliomanagement-Offices.
 Wir treffe
 n uns regelmäßig und tauschen Erfahrungen aus\, geben Hilfestellung für
  Fragen und erarbeiten Berichte\, Beiträge oder halten Präsentationen.

  &nbsp\;
 Viele Grüße
 Annett &amp\; Florian
DTSTART:20221019T163000Z
DTEND:20221019T180000Z
DTSTAMP:20220719T140705Z
ORGANIZER;CN=PMI Germany Chapter e.V.:MAILTO:website@pmi-gc.de
END:VEVENT
END:VCALENDAR