BEGIN:VCALENDAR
VERSION:2.0
PRODID:Events Booking
BEGIN:VEVENT
UID:69e795bdc4ccb
SUMMARY:Die Duftrevolution: Corporate Identity neu erfunden !
DESCRIPTION:Liebe Projektmanager\,die LG Thuringia lädt Euch zu einer Vera
 nstaltung zum Thema \"Die Duftrevolution: Corporate Identity neu erfunden 
 !\" ein.
 Erforscht die faszinierende Welt des Duftmarketings und lernt\,
  wie Düfte eine Marke in unvergessliche Erlebnisse verwandeln können.
LOCATION:Albrechtsgarten 5\, Zella-Mehlis\, 98544 Thüringen\, Deutschland
DTSTART:20231116T170000Z
DTEND:20231116T190000Z
DTSTAMP:20231101T173630Z
ORGANIZER;CN=PMI Germany Chapter e.V.:MAILTO:website@pmi-gc.de
GEO:50.652376;10.662525
X-APPLE-STRUCTURED-LOCATION;VALUE=URI;X-ADDRESS=Albrechtsgarten 5\, Zella-M
 ehlis\, 98544 Thüringen\, Deutschland;X-APPLE-RADIUS=72;X-TITLE=Arno Bart
 helmes Zella-Mehlis GmbH :50.652376;10.662525
END:VEVENT
END:VCALENDAR