BEGIN:VCALENDAR
VERSION:2.0
PRODID:Events Booking
BEGIN:VEVENT
UID:69e7c1dedbc01
SUMMARY:Digital Führen
DESCRIPTION:Zusammen mit der Regionalgruppe Dresden der GPM e.V. lädt die 
 PMI Local Group Dresden zum Thema
 \"Digital Führen. Gut beraten ist\, w
 er hier schon Lösungen hat ...\" ein.
 Dem Teilnehmer wird eine klare Be
 grifflichkeit an die Hand gegeben\, um die Widersprüche der vordergründi
 g unklaren Begriffe zu sortieren. Dies geschieht durch Einordnung der Begr
 iffsverwendung in den Kontext (situative Begriffsbedeutung). Darüber hina
 us gibt der Vortrag auch Entscheidungshilfen zum Einsatz der untersuchten 
 agilen Methoden.
DTSTART:20230913T160000Z
DTEND:20230913T173000Z
DTSTAMP:20230909T161336Z
ORGANIZER;CN=PMI Germany Chapter e.V.:MAILTO:website@pmi-gc.de
END:VEVENT
END:VCALENDAR