BEGIN:VCALENDAR
VERSION:2.0
PRODID:Events Booking
BEGIN:VEVENT
UID:69e89dbb03430
SUMMARY:Digital Future Congress
DESCRIPTION:&nbsp\;
 Wir als PMI Germany Chapter beteiligen uns wieder mit
  einem virtuellen Messestand am DIGITAL FUTUREcongress.In unserem Messesta
 nd (https://amc.smart2.biz/#Task61Place::::30:Aussteller:4656:) findenSie 
 viele Informationen\, darüber\, welche Leistungen das PMI Germany Chapter
  erbringt.Am 3. November findet der DIGITAL FUTUREcongress\, die größte 
 bundesweite Kongressmesse rund um die Digitalisierung für den Mittelstand
  und größere Unternehmen statt. Zu dieser Austausch- und Informationspla
 ttform für Geschäftsführende und IT-EntscheiderInnen möchten wir Sie g
 anz herzlich einladen.
 
DTSTART:20221103T080000Z
DTEND:20221103T170000Z
DTSTAMP:20221018T152455Z
ORGANIZER;CN=PMI Germany Chapter e.V.:MAILTO:website@pmi-gc.de
END:VEVENT
END:VCALENDAR