BEGIN:VCALENDAR
VERSION:2.0
PRODID:Events Booking
BEGIN:VEVENT
UID:69e80723bdd61
SUMMARY:Diversity in Project Management: Impacts to Business Outcomes - PMI
  Chapter Xchange
DESCRIPTION:
 PMI Chapter Xchange Event
 
 Diversity in Project Manageme
 nt – Impacts to business outcomes !
 Diversity is not only about gender
 \, it is differences in personalities\, race\, age\, culture\, religion\, 
 gender\, socio-economic background\, and more.
 When we have a team with 
 different mindsets and skill sets\, they challenge one another. They expos
 e faulty or incomplete assumptions. They look at problems with different l
 enses.&nbsp\; Such teams have a unique potential to arrive at unique solut
 ions and thus unlock unexpected value.&nbsp\;
 How do we build diverse te
 ams?&nbsp\;
 Can diverse teams impact the outcome of our projects?&nbsp\;
 
 Can too much diversity lead to chaos?&nbsp\;
 Join project leaders and
  managers from across the globe for a #pmichapterXchange collaborative eve
 nt of 25-way collaboration between the PMI Chapters of\; Mumbai\, Netherla
 nds\, South Africa\, Sri Lanka\, Phoenix\, New Zealand\, Zimbabwe\, Indone
 sia\, Gujarat\, Lima Peru\, Southern Alberta\, Sao Paulo\, Kenya\, Ghana\,
  Greece\, Puget Sound\, Poland\, Alaska\, United Arab Emirates\, Banglades
 h\, Nigeria\, Cameroon\, Germany\, Luxembourg\, and Turkiye while we explo
 re Diversity in Project Management- Impacts to business outcomes !&nbsp\;
 
 Our supporting chapters are PMI Japan\, and PMI Madrid Spain
 Wait no m
 ore and register to be part of this exciting event on&nbsp\;
 Date: June 
 16\, 2023
 Time: 16:00 CESTRegister below.
DTSTART:20230616T140000Z
DTEND:20230616T160000Z
DTSTAMP:20230525T163103Z
ORGANIZER;CN=PMI Germany Chapter e.V.:MAILTO:website@pmi-gc.de
END:VEVENT
END:VCALENDAR