BEGIN:VCALENDAR
VERSION:2.0
PRODID:Events Booking
BEGIN:VEVENT
UID:69e8071315f8e
SUMMARY:ENGLISH ROUND TABLE FRANKFURT JUNE 2023
DESCRIPTION:ENGLISH ROUND TABLE FRANKFURT JUNE 2023
 
 English Round Tabl
 e Frankfurt June 2023
 PMI Round Table on Project Planning
 21.06.2023 1
 8:30 - 20:30
 Dear PM enthusiasts\, members of PMI and friends\,
 Greeti
 ngs and here's the invite to the next English Round Table for the project 
 management professionals living in and around the city of Frankfurt. With 
 this event we intend to facilitate exchange between PMs\, and we will talk
  about Project &amp\; Program Management related topic in the Organization
 .
 This meeting will allow you to discuss on Project Planning\, and any o
 f the project management related topic or questions in your project\, prog
 ram\, organization\, or your day-to-day activities. Our volunteer team fro
 m the Germany Chapter will be available to facilitate the discussion.
 
LOCATION:Weckmarkt\, Frankfurt\, 60311 Hesse\, Germany
DTSTART:20230621T163000Z
DTEND:20230621T183000Z
DTSTAMP:20230612T170901Z
ORGANIZER;CN=PMI Germany Chapter e.V.:MAILTO:website@pmi-gc.de
GEO:50.110209;8.685693
X-APPLE-STRUCTURED-LOCATION;VALUE=URI;X-ADDRESS=Weckmarkt\, Frankfurt\, 603
 11 Hesse\, Germany;X-APPLE-RADIUS=72;X-TITLE=Metropol:50.110209;8.685693
END:VEVENT
END:VCALENDAR