BEGIN:VCALENDAR
VERSION:2.0
PRODID:Events Booking
BEGIN:VEVENT
UID:69e778b8797bf
SUMMARY:ENGLISH ROUND TABLE FRANKFURT MARCH 2024
DESCRIPTION:English Round Table Frankfurt March 2024
 PMI Round Table on P
 roject Planning
 26.03.2024 18:30 - 20:30
 Dear PM enthusiasts\, members
  of PMI and friends\,
 Greetings and here's the invite to the next Englis
 h Round Table for the project management professionals living in and aroun
 d the city of Frankfurt. With this event we intend to facilitate exchange 
 between PMs\, and we will talk about Project &amp\; Program Management rel
 ated topic in the Organization.
 This meeting will allow you to discuss o
 n Project Planning\, and any of the project management related topic or qu
 estions in your project\, program\, organization\, or your day-to-day acti
 vities. Our volunteer team from the Germany Chapter will be available to f
 acilitate the discussion.
LOCATION:Weckmarkt\, Frankfurt\, 60311 Hesse\, Germany
DTSTART:20240326T173000Z
DTEND:20240326T193000Z
DTSTAMP:20240319T185120Z
ORGANIZER;CN=PMI Germany Chapter e.V.:MAILTO:website@pmi-gc.de
GEO:50.110209;8.685693
X-APPLE-STRUCTURED-LOCATION;VALUE=URI;X-ADDRESS=Weckmarkt\, Frankfurt\, 603
 11 Hesse\, Germany;X-APPLE-RADIUS=72;X-TITLE=Metropol:50.110209;8.685693
END:VEVENT
END:VCALENDAR