BEGIN:VCALENDAR
VERSION:2.0
PRODID:Events Booking
BEGIN:VEVENT
UID:69e774540f44b
SUMMARY:English Round Table Frankfurt May 2024 - Online
DESCRIPTION:English Round Table Frankfurt May 2024 - Online
 PMI Round Tab
 le on Project Management topic
 28.05.2024 19:00 - 21:00
 Dear PM enthus
 iasts\, members of PMI and friends\,
 Greetings and here's the invite to 
 the next English Round Table for the project management professionals livi
 ng in and around the city of Frankfurt. With this event we intend to facil
 itate exchange between PMs\, and we will talk about Project &amp\; Program
  Management related topic in the Organization.
 This meeting will allow y
 ou to discuss on any of the project management related topic or questions 
 in your project\, program\, organization\, or your day-to-day activities. 
 Our volunteer team from the Germany Chapter will be available to facilitat
 e the discussion.
 Note that the event will take place in English.
DTSTART:20240528T170000Z
DTEND:20240528T190000Z
DTSTAMP:20240523T165306Z
ORGANIZER;CN=PMI Germany Chapter e.V.:MAILTO:website@pmi-gc.de
END:VEVENT
END:VCALENDAR