BEGIN:VCALENDAR
VERSION:2.0
PRODID:Events Booking
BEGIN:VEVENT
UID:69e7c22880443
SUMMARY:ENGLISH ROUND TABLE FRANKFURT SEPTEMBER 2023
DESCRIPTION:English Round Table Frankfurt September 2023
 PMI Round Table 
 on Project Management topic
 27.09.2023 18:30 - 20:30
 Dear PM enthusias
 ts\, members of PMI and friends\,
 Greetings and here's the invite to the
  next English Round Table for the project management professionals living 
 in and around the city of Frankfurt. With this event we intend to facilita
 te exchange between PMs\, and we will talk about Project &amp\; Program Ma
 nagement related topic in the Organization.
 This meeting will allow you 
 to discuss on any of the project management related topic or questions in 
 your project\, program\, organization\, or your day-to-day activities. Our
  volunteer team from the Germany Chapter will be available to facilitate t
 he discussion.
LOCATION:Weckmarkt\, Frankfurt\, 60311 Hesse\, Germany
DTSTART:20230927T163000Z
DTEND:20230927T183000Z
DTSTAMP:20230918T192138Z
ORGANIZER;CN=PMI Germany Chapter e.V.:MAILTO:website@pmi-gc.de
GEO:50.110209;8.685693
X-APPLE-STRUCTURED-LOCATION;VALUE=URI;X-ADDRESS=Weckmarkt\, Frankfurt\, 603
 11 Hesse\, Germany;X-APPLE-RADIUS=72;X-TITLE=Metropol:50.110209;8.685693
END:VEVENT
END:VCALENDAR