BEGIN:VCALENDAR
VERSION:2.0
PRODID:Events Booking
BEGIN:VEVENT
UID:69e8761c8d88b
SUMMARY:English Round Table Langen January 2023
DESCRIPTION:PMI Round Table on Project Management topic
 Here's the invite
  to the next English Round Table for the project management professionals 
 living in and around the city of Langen. With this event we intend to faci
 litate exchange between PMs\, and we will talk about Project &amp\; Progra
 m Management related topic in the Organization.This meeting will allow you
  to discuss on any of the project management related topic or questions in
  your project\, program\, organization or your day-to-day activities. Plea
 se feel free to bring your own question / topic of interest\, if intereste
 d. Our volunteer team from the Germany Chapter will be available to facili
 tate the discussion.
LOCATION:Europaplatz\, Langen\, 63225 Hessen\, Deutschland
DTSTART:20230125T173000Z
DTEND:20230125T193000Z
DTSTAMP:20230116T231101Z
ORGANIZER;CN=PMI Germany Chapter e.V.:MAILTO:website@pmi-gc.de
GEO:49.993532;8.658023
X-APPLE-STRUCTURED-LOCATION;VALUE=URI;X-ADDRESS=Europaplatz\, Langen\, 6322
 5 Hessen\, Deutschland;X-APPLE-RADIUS=72;X-TITLE=Station Point Thai Food:4
 9.993532;8.658023
END:VEVENT
END:VCALENDAR