BEGIN:VCALENDAR
VERSION:2.0
PRODID:Events Booking
BEGIN:VEVENT
UID:69e7789b37e6e
SUMMARY:FEMP Alumni -  Project management as crisis management
DESCRIPTION:Project management as crisis management - interactive event for
  FEMP Alumni
DTSTART:20240207T183000Z
DTEND:20240207T191500Z
DTSTAMP:20240124T130435Z
ORGANIZER;CN=PMI Germany Chapter e.V.:MAILTO:website@pmi-gc.de
END:VEVENT
END:VCALENDAR