BEGIN:VCALENDAR
VERSION:2.0
PRODID:Events Booking
BEGIN:VEVENT
UID:69e816f351d14
SUMMARY:Projektmanagement nach der Pandemie
DESCRIPTION:Die Fachgruppe Projektmanagement der Gesellschaft für Informat
 ik veranstaltet gemeinsam mit dem PMI Germany Chapter einen Workshop zum T
 hema Projektmanagement nach der Pandemie.
 Mit Ende der pandemischen Lage
  stellt sich die Frage\, wie sich das Projektmanagement in den Organisatio
 nen weiterentwickeln wird.&nbsp\;Werden die neu geschaffenen Arbeitsmodell
 e (bspw. Homeoffice) weitergenutzt oder sogar ausgebaut oder findet ein R
 ückbau auf den Stand vor der Pandemie statt? Was wird bleiben\, wenn unse
 r Leben nicht mehr von der aktuellen Pandemie beeinflusst wird? Wird es au
 ch in der Arbeits- und Projektwelt zu „Long-Covid-Symptomen“ kommen? W
 elche positiven Effekte wären wünschenswert?
 Anmeldung ausschließlich
  über die Webseite der Fachgruppe: https://fg-wi-pm.gi.de/veranstaltung/p
 rojektmanagement-nach-der-pandemieHier findest Du aktuelle Informationen z
 um Ablauf und zu den Vorträgen:&nbsp\;http://fg-wi-pm.di.ge&nbsp\;Für R
 ückfragen wende Dich bitte an martin.bertram@pmi-gc.de
LOCATION:Platz der Republik\, Friedrich-Ebert-Anlage\, Westend Süd\, Innen
 stadt 2\, Frankfurt am Main\, Hessen\, 60325\, Deutschland
DTSTART:20230504T120000Z
DTEND:20230504T170000Z
DTSTAMP:20230125T071932Z
ORGANIZER;CN=PMI Germany Chapter e.V.:MAILTO:website@pmi-gc.de
GEO:50.110052;8.660488
X-APPLE-STRUCTURED-LOCATION;VALUE=URI;X-ADDRESS=Platz der Republik\, Friedr
 ich-Ebert-Anlage\, Westend Süd\, Innenstadt 2\, Frankfurt am Main\, Hesse
 n\, 60325\, Deutschland;X-APPLE-RADIUS=72;X-TITLE=DZ Bank Frankfurt:50.110
 052;8.660488
END:VEVENT
END:VCALENDAR