BEGIN:VCALENDAR
VERSION:2.0
PRODID:Events Booking
BEGIN:VEVENT
UID:69e8ca6bb9c3e
SUMMARY:Online event LGDA: How to manage your business as a project - Ahmed
  Zouhair
DESCRIPTION:Most of entrepreneurs and new small business owners wear many h
 ats. As a result\, the majority get stuck and end up closing their busines
 ses within 2 years because of poor strategy\, planning\, and prioritizatio
 n.Ahmed will provide a practical and pragmatic guide to real-world project
  management for your business—presented in plain English. He will share 
 why most companies use buzzwords\, catch phrases\, and acronyms that every
  industry employs. This can be intimidating\, overwhelming\, and discourag
 ing to those using project management for their own small business.
 &nbs
 p\;
 For questions contact: lgdarmstadt@pmi-gc.de
DTSTART:20220907T160000Z
DTEND:20220907T173000Z
DTSTAMP:20220630T181220Z
ORGANIZER;CN=PMI Germany Chapter e.V.:MAILTO:website@pmi-gc.de
END:VEVENT
END:VCALENDAR