BEGIN:VCALENDAR
VERSION:2.0
PRODID:Events Booking
BEGIN:VEVENT
UID:69e8bbe6d71ec
SUMMARY:Hybride Projektteams: Die Zukunft der digitalen Projektumsetzung
DESCRIPTION:Seien Sie dabei\, wenn wir Ihnen die Vorteile von hybriden Proj
 ektteams für die Umsetzung digitaler Projekte auf höchstem Level präsen
 tieren. Erfahren Sie\, wie Sie durch die Kombination aus internen und exte
 rnen Teammitgliedern langfristig erfolgreiche Projekte realisieren können
 . Tauchen Sie ein in die Welt der digitalen Zusammenarbeit und profitieren
  Sie von praxisnahen Tipps und Best Practices. Sichern Sie sich jetzt Ihre
 n Platz und nehmen Sie Ihre Projekte auf das nächste Level!
LOCATION:Arnulfstraße 59\, München\, 80636 Bayern\, Deutschland
DTSTART:20240523T160000Z
DTEND:20240523T173000Z
DTSTAMP:20240225T114830Z
ORGANIZER;CN=PMI Germany Chapter e.V.:MAILTO:website@pmi-gc.de
GEO:48.145553;11.538317
X-APPLE-STRUCTURED-LOCATION;VALUE=URI;X-ADDRESS=Arnulfstraße 59\, München
 \, 80636 Bayern\, Deutschland;X-APPLE-RADIUS=72;X-TITLE=Ernst & Young\, M
 ünchen:48.145553;11.538317
END:VEVENT
END:VCALENDAR