BEGIN:VCALENDAR
VERSION:2.0
PRODID:Events Booking
BEGIN:VEVENT
UID:69e807644b6b7
SUMMARY:Hybrides Projektmanagement bei M-net – Die Verknüpfung von zwei 
 Welten! Ein Erfahrungsbericht mit anschließendem Austausch.
DESCRIPTION:Als Telekommunikationsanbieter gehört M-net zu den kritischen 
 Infrastrukturbetreibern. In diesem sensiblen Umfeld müssen Projekte profe
 ssionell und termingerecht abgewickelt werden.Wie in anderen Branchen auch
 \, muss M-net schnell und flexibel reagieren können\, um den Anforderunge
 n des Marktes gerecht zu werden.M-net setzt daher bei zahlreichen Projektu
 msetzungen auf ein hybrides Projektmanagement.Wir laden Sie ein\, unsere A
 nsätze des hybriden Projektmanagements in einem offenen Austauschformat z
 u diskutieren und zu reflektieren.
LOCATION:Frankfurter Ring 158\, 80807 München
DTSTART:20230629T160000Z
DTEND:20230629T193000Z
DTSTAMP:20230524T175520Z
ORGANIZER;CN=PMI Germany Chapter e.V.:MAILTO:website@pmi-gc.de
GEO:48.187584;11.587911
X-APPLE-STRUCTURED-LOCATION;VALUE=URI;X-ADDRESS=Frankfurter Ring 158\, 8080
 7 München;X-APPLE-RADIUS=72;X-TITLE=M-net Telekommunikations GmbH:48.1875
 84;11.587911
END:VEVENT
END:VCALENDAR