BEGIN:VCALENDAR
VERSION:2.0
PRODID:Events Booking
BEGIN:VEVENT
UID:69e847f495b00
SUMMARY:Internationaler Frauentag 2023
DESCRIPTION:Das PMI Germany Chapter kooperiert mit vielen anderen PMI Chapt
 ern bei der Organisation einer großen ganztägigen Veranstaltung zur Feie
 r des Internationaler Frauentags 2023 am 8. März 2023. Die Kampagne steht
  unter dem Motto: #GleichberechtigungAnnehmen.
 Um mehr darüber zu erfah
 ren\, steht die Website&nbsp\;International Women’s Day 2023: #EmbraceEq
 uity zur Verfügung. Detaillierte Informationen zur Veranstaltung sind hie
 r zu finden:&nbsp\;https://www.pmi.org.uk/events/womeninprojects
 Die Anm
 eldung erfolgt ausschließlich über:&nbsp\;https://www.pmi.org.uk/womenin
 projects-register
 Die Teilnahme ist kostenlos. Sei gespannt auf die viel
 en tollen interessanten Sessions\, die angeboten werden.&nbsp\;
 Dieser E
 vent wird in Englischer Sprache abgehalten!
LOCATION:Online System
DTSTART:20230308T070000Z
DTEND:20230308T190000Z
DTSTAMP:20221229T081336Z
ORGANIZER;CN=PMI Germany Chapter e.V.:MAILTO:website@pmi-gc.de
END:VEVENT
END:VCALENDAR