BEGIN:VCALENDAR
VERSION:2.0
PRODID:Events Booking
BEGIN:VEVENT
UID:69e8c8efb2ccc
SUMMARY:Wege in die Cloud - Wirtschaftlichkeitsbetrachtung
DESCRIPTION:Was kostet der Betrieb der IT in unternehmenseigenen oder gemie
 teten Rechenzentren? Was kostet der Betrieb der IT in einer Cloud? Welche 
 Voraussetzungen müssen für einen Cloud-Betrieb zuätzlich geschaffen wer
 den? Welche Tätigkeiten und Aufgaben entfallen? Welche Schulungen muss da
 s Unternehmen durchführen um die Mitarbeiter zu qualifizieren und eine ho
 he IT-Sicherheit zu schaffen? Über diese Fragen wird am 27.\,09.22 n eine
 m Vortrag der Cologne Group im PMI Germany Chapeter und der Community of P
 ractice Citizen Development gesprochen. 
DTSTART:20220927T160000Z
DTEND:20220927T180000Z
DTSTAMP:20220904T061641Z
ORGANIZER;CN=PMI Germany Chapter e.V.:MAILTO:website@pmi-gc.de
END:VEVENT
END:VCALENDAR