BEGIN:VCALENDAR
VERSION:2.0
PRODID:Events Booking
BEGIN:VEVENT
UID:69e7ab1b6db9c
SUMMARY:Agil? Klassisch? Hybrid? Welche Projektmanagement-Methode ist \"die
  Beste\"?
DESCRIPTION:Vor dieser Frage stehen wir alle oft genug.&nbsp\;
 Die Antwor
 t ist ein klares \"das kommt drauf an.\"&nbsp\;
 Ausgehend von diesen 3 A
 nsätzen (agil\, klassisch\, hybrid) wollen wir zusammen anhand von einige
 n Hypothesen diskutieren\, welche Methode \"die Beste\" ist\, oder ob es e
 ine Solche überhaupt geben kann.&nbsp\;
LOCATION:Lorbeerweg 24 Karlsruhe\, 76149 Baden-Württemberg\, Deutschland
DTSTART:20231024T160000Z
DTEND:20231024T190000Z
DTSTAMP:20230808T112327Z
ORGANIZER;CN=PMI Germany Chapter e.V.:MAILTO:website@pmi-gc.de
GEO:49.036727;8.394245
X-APPLE-STRUCTURED-LOCATION;VALUE=URI;X-ADDRESS=Lorbeerweg 24 Karlsruhe\, 7
 6149 Baden-Württemberg\, Deutschland;X-APPLE-RADIUS=72;X-TITLE=Moxy-Hotel
  Karlsruhe:49.036727;8.394245
END:VEVENT
END:VCALENDAR