BEGIN:VCALENDAR
VERSION:2.0
PRODID:Events Booking
BEGIN:VEVENT
UID:69e7d7026584f
SUMMARY:Stammtisch-Workshop : „LG Thuringia growing\" - HYBRID
DESCRIPTION:Die Local Group Thuringia lädt ein zumStammtisch-Workshop in t
 oller Atmosphäre und neuer Location – Thema: Wohin geht die Reise?
 Lo
 cal Group Thuringia growing !
LOCATION:Gustav-Weißkopf-Straße 3-7\, 99092 Erfurt\, Thüringen
DTSTART:20230831T160000Z
DTEND:20230831T180000Z
DTSTAMP:20230829T175151Z
ORGANIZER;CN=PMI Germany Chapter e.V.:MAILTO:website@pmi-gc.de
GEO:50.972306;10.961459
X-APPLE-STRUCTURED-LOCATION;VALUE=URI;X-ADDRESS=Gustav-Weißkopf-Straße 3-
 7\, 99092 Erfurt\, Thüringen;X-APPLE-RADIUS=72;X-TITLE=Bechtle Managed Se
 rvices GmbH :50.972306;10.961459
END:VEVENT
END:VCALENDAR