BEGIN:VCALENDAR
VERSION:2.0
PRODID:Events Booking
BEGIN:VEVENT
UID:69e801aa3074f
SUMMARY:Projektmanagement aus der Lean Perspektive: Wertschöpfung oder ein
 e notwendige Art der Verschwendung?
DESCRIPTION:Die Local Group Berlin/Brandenburg lädt Sie zu einem interessa
 nten Vortragsabend zu dem Thema:
 Projektmanagement aus der Lean Perspekt
 ive: Wertschöpfung oder eine notwendige Art der Verschwendung?
 Wodurch 
 zeichnet sich ein schlankes Projektmanagement aus? Wie wird Verschwendung 
 vermieden? Welche Wechselwirkungen müssen bei der Ausgestaltung beachtet 
 werden und welche systemischen Parameter müssen dabei in Betracht gezogen
  werden?
LOCATION:Chausseestraße 86\, 10115 Berlin
DTSTART:20230629T160000Z
DTEND:20230629T180000Z
DTSTAMP:20230210T170321Z
ORGANIZER;CN=PMI Germany Chapter e.V.:MAILTO:website@pmi-gc.de
END:VEVENT
END:VCALENDAR