BEGIN:VCALENDAR
VERSION:2.0
PRODID:Events Booking
BEGIN:VEVENT
UID:69e8770262bed
SUMMARY:Online event LG DA: The Culture of Nollywood in relations to Projec
 t Management by Bukky Bamidele-Aina
DESCRIPTION:Bukky Bamidele-Aina\, PMP CSM CSPO APMC\, originally is from Ni
 geria\, knowing well its culture and its film industry called Nollywood. S
 he lives and works since some years in Houston\, Texas\, US. She will show
  us&nbsp\;
 
 specifics of Nigerian culture
 the role the film industry
  plays in Nigeria and elsewhere
 how project management is used to make f
 ilms and get profits from them
 how to watch Nollywood films\, and some r
 ecommendations&nbsp\;
 
 Nollywood is the worldwide 2nd largest film ind
 ustry\, after Bollywood in India.&nbsp\;
 For questions: lgdarmstadt@pmi-
 gc.de&nbsp\;
DTSTART:20230119T170000Z
DTEND:20230119T183000Z
DTSTAMP:20221007T110723Z
ORGANIZER;CN=PMI Germany Chapter e.V.:MAILTO:website@pmi-gc.de
END:VEVENT
END:VCALENDAR