BEGIN:VCALENDAR
VERSION:2.0
PRODID:Events Booking
BEGIN:VEVENT
UID:69e7ec339eea7
SUMMARY:LG DARMSTADT 10th ROUNDTABLE ONSITE
DESCRIPTION:GENERAL INFORMATION
 10th onside meeting of the local group Da
 rmstadt. As we are an internation team\, the language is English.
 Date/T
 ime: Monday\, 24 July 2023\, 18:00 - 20:30
 Location: Hochschule Darmstad
 t\, Room 00.18\, Building D19\, Schöfferstraße 10
 Cost: Free of charge
 \, 2 PDUs
DTSTART:20230724T160000Z
DTEND:20230724T183000Z
DTSTAMP:20230129T201007Z
ORGANIZER;CN=PMI Germany Chapter e.V.:MAILTO:website@pmi-gc.de
END:VEVENT
END:VCALENDAR