BEGIN:VCALENDAR
VERSION:2.0
PRODID:Events Booking
BEGIN:VEVENT
UID:69e85cdb3431f
SUMMARY:LG DARMSTADT 5th ROUNDTABLE ONSITE
DESCRIPTION:GENERAL INFORMATION:
 Fifth onsite meeting of the local group 
 Darmstadt.&nbsp\;As we are an international team\, the language is English
 .Date/Time:&nbsp\;Monday\, 27.02.2023\, 18:00-20:30Location:&nbsp\;Hochsch
 ule Darmstadt\, room 00.18 building D19\,&nbsp\;Schöfferstr 10.Cost:&nbsp
 \;Free of charge\, 2 PDUs.
DTSTART:20230227T170000Z
DTEND:20230227T193000Z
DTSTAMP:20230129T201007Z
ORGANIZER;CN=PMI Germany Chapter e.V.:MAILTO:website@pmi-gc.de
END:VEVENT
END:VCALENDAR