BEGIN:VCALENDAR
VERSION:2.0
PRODID:Events Booking
BEGIN:VEVENT
UID:69e9d89a95188
SUMMARY:LG DARMSTADT ANNIVERSARY CELEBRATION
DESCRIPTION:GENERAL INFORMATION:It is our birthday! 3 years Local Group Dar
 mstadt! We welcome you to join and celebrate with us!Onsite meeting of the
  local group Darmstadt.&nbsp\;As we are an international team\, the langua
 ge is English.&nbsp\;Monday\, 20.03.2023\, 18:00-20:30\,&nbsp\;Hochschule 
 DarmstadtCost:&nbsp\;Free of charge\, 2 PDUs.
DTSTART:20230320T170000Z
DTEND:20230320T193000Z
DTSTAMP:20230129T201007Z
ORGANIZER;CN=PMI Germany Chapter e.V.:MAILTO:website@pmi-gc.de
END:VEVENT
END:VCALENDAR