BEGIN:VCALENDAR
VERSION:2.0
PRODID:Events Booking
BEGIN:VEVENT
UID:69e8b3f986f76
SUMMARY:LG Darmstadt Roundtable onsite
DESCRIPTION:Repeat of successful f2f event on 19.9.2022 with 12 participant
 s and 5 topics of interest identified
 Second onsite meeting of the local
  group since 2020.&nbsp\;
 Date/Time: Monday\, 24.10.2022\, 19:00-21:30

  Venue: At Hochschule Darmstadt\, room 00.18 building D19\, Schöfferstr 1
 0
 Cost: Free of charge\, 1 PDU.
 Agenda:&nbsp\;1. Introductions2. Topic
 s of Interest: identify\, select and discuss&nbsp\;
 Please bring your ow
 n question / topic of interest (BYOQ).&nbsp\;
 For questions contact&nbsp
 \;lgdarmstadt@pmi-gc.de&nbsp\;or 0171-3358938&nbsp\;
DTSTART:20221024T170000Z
DTEND:20221024T193000Z
DTSTAMP:20220921T132800Z
ORGANIZER;CN=PMI Germany Chapter e.V.:MAILTO:website@pmi-gc.de
END:VEVENT
END:VCALENDAR