BEGIN:VCALENDAR
VERSION:2.0
PRODID:Events Booking
BEGIN:VEVENT
UID:69e817a5f254a
SUMMARY:DFKI Data Science and Its Applications meets PMI
DESCRIPTION:Digitale Technologien und KI: Wo steckt heute schon KI drin und
  wo geht die Reise hin?
 Nach langer Zeit veranstaltet die Local Group So
 uthwest eine Präsenzveranstaltung am DFKI in Kaiserslautern.
 Prof. Voll
 mer gibt einen historischen Einstieg in das Thema KI um dann detaillierter
  auf das Maschinelle Lernen (ML) einzugehen.
 Bei Fragen wende Dich bitte
  an:&nbsp\;LGSouthwest@pmi-gc.de\;
LOCATION:Trippstadter Straße 122\, Kaiserslautern\, 67663 Rheinland-Pfalz\
 , Deutschland
DTSTART:20230517T160000Z
DTEND:20230517T180000Z
DTSTAMP:20230504T171954Z
ORGANIZER;CN=PMI Germany Chapter e.V.:MAILTO:website@pmi-gc.de
GEO:49.429286;7.751244
X-APPLE-STRUCTURED-LOCATION;VALUE=URI;X-ADDRESS=Trippstadter Straße 122\, 
 Kaiserslautern\, 67663 Rheinland-Pfalz\, Deutschland;X-APPLE-RADIUS=72;X-T
 ITLE=DFKI Kaiserslautern:49.429286;7.751244
END:VEVENT
END:VCALENDAR