BEGIN:VCALENDAR
VERSION:2.0
PRODID:Events Booking
BEGIN:VEVENT
UID:69e85d7d13a4e
SUMMARY:Online event LG DA: How project management helped to recover from a
  broken leg
DESCRIPTION:Deepa Bhide is a PMP and Medical Doctor from IndiaShe will shar
 e her experience with a broken leg and how she recovered using project man
 agement skills
 Wednesday\, 22.2.2023 17:00 CET / 21:30 IST for 90 minute
 sFree zoom webinar. You can claim 1 PDU.
 Dr. Deepa Bhide\,&nbsp\;
 http
 s://www.linkedin.com/in/deepabhide2000/Blending medical and project manage
 ment experience of over 20 years.PMP and PMI volunteer for 15+ years\, cur
 rently serving on PMI's global Ethics Insights Team (EIT).Author of a seri
 es of articles on 'Healthcare and Project Management' on pmworldjournal.co
 mand papers like \"Patient Care - A Project Management Perspective\"From H
 yderabat\, India - traveling\, singing and cooking
DTSTART:20230222T160000Z
DTEND:20230222T173000Z
DTSTAMP:20230120T133127Z
ORGANIZER;CN=PMI Germany Chapter e.V.:MAILTO:website@pmi-gc.de
END:VEVENT
END:VCALENDAR