BEGIN:VCALENDAR
VERSION:2.0
PRODID:Events Booking
BEGIN:VEVENT
UID:69e82d153b797
SUMMARY:Online event LG DA: Why positive attitude is important for project 
 success?
DESCRIPTION:TODAY IS A GOOD DAY!
 Why positive attitude is important for p
 roject success?This presentation explains my project management experience
  during my professional career from the attitude point of view. Don’t fo
 rget that your team members see you as their reference.by PMI Fellow Alfon
 so Bucerohttps://www.linkedin.com/in/alfonso-bucero-msc-ace-pmp-pmi-rmp-pf
 mp-ipmo-e-pmi-fellow-97348a/Alfonso Bucero\, MSc\, PMP\, PMI-RMP\, PfMP\, 
 PMI Fellow\, and Certified Public Speaker is an independent project manage
 ment consultant\, author and speaker.&nbsp\;
 Monday\, 17.4.2023 18:00 CE
 ST for 90 minutes.Free zoom webinar. You can claim 1 PDU.Questions: lgdarm
 stadt@pmi-gc.de
 &nbsp\;
DTSTART:20230417T160000Z
DTEND:20230417T173000Z
DTSTAMP:20230310T114311Z
ORGANIZER;CN=PMI Germany Chapter e.V.:MAILTO:website@pmi-gc.de
END:VEVENT
END:VCALENDAR