BEGIN:VCALENDAR
VERSION:2.0
PRODID:Events Booking
BEGIN:VEVENT
UID:69e82bd4a5679
SUMMARY:Online Event LG DA: Disciplined Agile – The new Arsenal of a Proj
 ect Manager 
DESCRIPTION:Does Disciplined Agile (DA) mean the end of the road for the ot
 her methodologies?
 Or is there a new demand on project management practi
 tioners to understand the potential of each new practice to decide and jus
 tify the use of “A Particular” method based on the project environment
 ? Lt Col L Shri Harsha\, Retd\, PgMP\, PMP\, DASSM is a seasoned professio
 nal from India\, who has practiced Project Management in all forms for ove
 r 30 years.
 Wednesday\, 26.4.2023 18:00 CEST for 90 minutes.Free zoom we
 binar. You can claim 1 PDU.
 Questions: lgdarmstadt@pmi-gc.de&nbsp\;
 &n
 bsp\;
DTSTART:20230426T160000Z
DTEND:20230426T173000Z
DTSTAMP:20230215T175534Z
ORGANIZER;CN=PMI Germany Chapter e.V.:MAILTO:website@pmi-gc.de
END:VEVENT
END:VCALENDAR