BEGIN:VCALENDAR
VERSION:2.0
PRODID:Events Booking
BEGIN:VEVENT
UID:69e816f499cc5
SUMMARY:Online event LG Darmstadt: Project Wonders
DESCRIPTION:https://www.linkedin.com/in/ricardovargas/
 &nbsp\;
 A PMI Fe
 llow\, former PMI Chair\, initiator and implementer of Brightline and much
  more\, Ricardo is the role model of a volunteer and leader who is visiona
 ry\, takes action and reapts results - like not many can.&nbsp\;
 He will
  share with us about how wonderful project management really is.&nbsp\;
 
 For attendance everyone will get 1PDU.
DTSTART:20230524T160000Z
DTEND:20230524T173000Z
DTSTAMP:20230427T162718Z
ORGANIZER;CN=PMI Germany Chapter e.V.:MAILTO:website@pmi-gc.de
END:VEVENT
END:VCALENDAR