BEGIN:VCALENDAR
VERSION:2.0
PRODID:Events Booking
BEGIN:VEVENT
UID:69e7ebd2a18f7
SUMMARY:Online event LG Darmstadt: International perspective in leadership
DESCRIPTION:Book presentation\, led by Dr. Ahmad el Zein from Notre Dane Un
 iversity in Lebanon
 https://www.linkedin.com/in/ahmad-lukman-el-zein-6a2
 50970/
 &nbsp\;A 364 pages book from 9 authors about international divers
 e view on leadership\, organized by Ahmad\, is presented by 5 of the 9 aut
 hors:&nbsp\;
 
 https://www.linkedin.com/in/mouninatounkara/
 https://w
 ww.linkedin.com/in/donnarcoles/
 https://www.linkedin.com/in/ghada-kalake
 sh-22018727/
 Josephine Nkoma Ajanda Hänel (Olagot)
 Thomas Walenta
 
 
 authors but not presenting:
 
 Dr. Badia Srour&nbsp\;
 Daniel J. Mitc
 helkl
 Robert O'Quinn
 Lord Carlisle
 
 &nbsp\;
 Chapters of the book
  are:
 
 
 
 Leadership as a tool to overcome Denial ManagementLeaders
 hip as a tool to enhance HR practicesThe roles of wisdom and leadership in
  making projects successfulA History and Future of Diversity\, Equity\, an
 d Inclusion in the U.S.Economic Leadership During AdversityEmotionally Agi
 le Leadership: Build Your LeadersPrehistory\, Antiquity\, Middle Ages of t
 he Sacred Leadership of Black Africa: Royal Leadership
 
 
 
 The book
  can be downloaded for free from the PMI Germany Chapter members area.&nbs
 p\;https://pmi-gc.de/en/profile/event-downloads
DTSTART:20230726T160000Z
DTEND:20230726T173000Z
DTSTAMP:20230529T180750Z
ORGANIZER;CN=PMI Germany Chapter e.V.:MAILTO:website@pmi-gc.de
END:VEVENT
END:VCALENDAR