BEGIN:VCALENDAR
VERSION:2.0
PRODID:Events Booking
BEGIN:VEVENT
UID:69e7b04087c8a
SUMMARY:Online event LG Darmstadt: Leveraging Behavioral Economics in Agile
  Software Development
DESCRIPTION:Stefan will dive into the intersection of Scrum and Agile and B
 ehavioral Economics. What are the behavioral traits and biases in human na
 ture make Scrum effective as a framework\, how to recognize them\, and how
  to emphasize them\, to get even better results?
 Connect with Stefan on 
 Linkedin:&nbsp\;https://www.linkedin.com/in/miteskistefan/&nbsp\;
 &nbsp\
 ;Webinar/online event - The zoom link will be shared via email with regist
 ered users some hours before the event.
 Questions regarding the event? L
 GDarmstadt@pmi-gc.de&nbsp\;
DTSTART:20231031T170000Z
DTEND:20231031T183000Z
DTSTAMP:20230928T061649Z
ORGANIZER;CN=PMI Germany Chapter e.V.:MAILTO:website@pmi-gc.de
END:VEVENT
END:VCALENDAR