BEGIN:VCALENDAR
VERSION:2.0
PRODID:Events Booking
BEGIN:VEVENT
UID:69e77008a2a9c
SUMMARY:Online event LG Darmstadt: Bridging The Generational Gap: A New Kin
 d Of Diversity!
DESCRIPTION:Bridging The Generational Gap: A New Kind Of Diversity!Generati
 on Gap has widened today\, making collaboration and synergy on a team more
  challenging than before. Interactions between people from differing gener
 ations can resemble a cross-cultural relationship. Generations can possess
  different values\, customs\, and languages. While the generation gap was 
 spotted more than 50 years ago\, the gap is wider today.
 By&nbsp\;Anupam
 a Kinatukara&nbsp\;https://www.linkedin.com/in/anupamakinatukara/
 Questi
 ons? LgDarmstadt@pmi-gc.de&nbsp\;
DTSTART:20240124T170000Z
DTEND:20240124T183000Z
DTSTAMP:20231103T091200Z
ORGANIZER;CN=PMI Germany Chapter e.V.:MAILTO:website@pmi-gc.de
END:VEVENT
END:VCALENDAR