BEGIN:VCALENDAR
VERSION:2.0
PRODID:Events Booking
BEGIN:VEVENT
UID:69e774fa0516d
SUMMARY:Online event LG Darmstadt:  How to unlock your leadership potential
  ?
DESCRIPTION:By Victoria Valroff: This masterclass will remind you that we a
 re all leaders.&nbsp\;&nbsp\;&nbsp\;In this masterclass we will :&nbsp\;

  
 Dispel the myths and fears that are preventing you from developing you
 r leadership.&nbsp\;
 Dive into a new paradigm of leadership.&nbsp\;
 Ex
 periment with simple tools to gain clarity about your next leadership step
 .
 
DTSTART:20240117T170000Z
DTEND:20240117T183000Z
DTSTAMP:20231004T112458Z
ORGANIZER;CN=PMI Germany Chapter e.V.:MAILTO:website@pmi-gc.de
END:VEVENT
END:VCALENDAR