BEGIN:VCALENDAR
VERSION:2.0
PRODID:Events Booking
BEGIN:VEVENT
UID:69ea169bd1782
SUMMARY:Online event LG Darmstadt: Leveraging Maturity and Impact Models to
  compare PMOs across industries objectively
DESCRIPTION:Leveraging Maturity and Impact Models to compare PMOs across in
 dustries objectively
 &nbsp\;
 by Dr. Robert Joslin\, Switzerland&nbsp\;
 https://www.linkedin.com/in/dr-robert-joslin/and Arthur Goetsch\, UK&nbsp\
 ;https://www.linkedin.com/in/arthurgoetsch/
 Questions: lgdarmstadt@pmi-g
 c.deFree webinar\, 1 PDU
 Link to the webinar will be sent 1 day before t
 he event to those who booked the event on this site.
DTSTART:20240312T170000Z
DTEND:20240312T183000Z
DTSTAMP:20231228T134810Z
ORGANIZER;CN=PMI Germany Chapter e.V.:MAILTO:website@pmi-gc.de
END:VEVENT
END:VCALENDAR