BEGIN:VCALENDAR
VERSION:2.0
PRODID:Events Booking
BEGIN:VEVENT
UID:69e97c00ec4f4
SUMMARY:Online event LG Darmstadt: START YOUR SUCCESSFUL BUSINESS AS A PROJ
 ECT MANAGEMENT CONTRACTOR
DESCRIPTION:START YOUR SUCCESSFUL BUSINESS AS A PROJECT MANAGEMENT CONTRACT
 OR
 Planning to … “Start Your-Own-Business”? Quiet quitting and goi
 ng into business? Think long and hard on what you want to do vs what you c
 an do vs what your clients will expect of you.&nbsp\; Uncover the professi
 on of earning a great income as a contractor in project management\, a PMP
  trainer\, and the steps required to prepare for business success.
 by El
 aine Jackson.&nbsp\;https://www.linkedin.com/in/ejackson21/
 Questions: l
 gdarmstadt@pmi-gc.de&nbsp\;
DTSTART:20240319T170000Z
DTEND:20240319T183000Z
DTSTAMP:20240108T152030Z
ORGANIZER;CN=PMI Germany Chapter e.V.:MAILTO:website@pmi-gc.de
END:VEVENT
END:VCALENDAR