BEGIN:VCALENDAR
VERSION:2.0
PRODID:Events Booking
BEGIN:VEVENT
UID:69e7cd9df008c
SUMMARY:Online event LG Darmstadt: Conquer Project Chaos by Raquel Horta
DESCRIPTION:Conquer Project Chaosby Raquel Horta (Ireland)&nbsp\;https://ww
 w.linkedin.com/in/raquelhorta/
 Date change from 5.5.25 to 28.4.25
 Proj
 ect chaos is often seen as disorder or unpredictability in a project\, but
  when viewed positively\, it can be a catalyst for innovation\, adaptabili
 ty\, and creativity. Instead of seeing chaos as a failure\, it can be refr
 amed as an opportunity for growth\, problem-solving\, and breakthrough mom
 ents.Questions? lgdarmstadt@pmi-gc.de
DTSTART:20250428T160000Z
DTEND:20250428T173000Z
DTSTAMP:20250219T174403Z
ORGANIZER;CN=PMI Germany Chapter e.V.:MAILTO:website@pmi-gc.de
END:VEVENT
END:VCALENDAR