BEGIN:VCALENDAR
VERSION:2.0
PRODID:Events Booking
BEGIN:VEVENT
UID:69e83106850ef
SUMMARY:Local Group Thuringia - Stammtisch im Bechtle IT-Systemhaus Weimar
DESCRIPTION:Liebe Thüringer Projektmanagement Freunde\,&nbsp\;gern laden w
 ir euch zu unserem Local Group Thüringen Q1/Q2-Event ein.&nbsp\;&nbsp\;De
 r geplante Besuch im Amazon Logistikzentrum musste leider ausfallen bzw. w
 ird bis auf Weiteres verschobene. Daher nutzen wir die freundliche Einladu
 ng des Bechtle IT-Systemhauses Weimar\, um uns dort zu treffen und auszuta
 uschen.&nbsp\;Alle Projektmanagement-Interessierten sind herzlich willkomm
 en!
LOCATION:Lindenallee 6\, Weimar\, 99428 Thüringen\, Deutschland
DTSTART:20230420T160000Z
DTEND:20230420T180000Z
DTSTAMP:20230313T153428Z
ORGANIZER;CN=PMI Germany Chapter e.V.:MAILTO:website@pmi-gc.de
GEO:50.936308;11.292243
X-APPLE-STRUCTURED-LOCATION;VALUE=URI;X-ADDRESS=Lindenallee 6\, Weimar\, 99
 428 Thüringen\, Deutschland;X-APPLE-RADIUS=72;X-TITLE=Bechtle IT-Systemha
 us Weimar :50.936308;11.292243
END:VEVENT
END:VCALENDAR