BEGIN:VCALENDAR
VERSION:2.0
PRODID:Events Booking
BEGIN:VEVENT
UID:69e8a5050705b
SUMMARY:Online event LGDA: Maturity Models by Wagner Maxsen
DESCRIPTION:LG Darmstadt proudly presents a zoom presentation by Wagner Max
 sen
 - Purpose of maturity models for PM- Practical benefits of maturity 
 models- Key things to keep in mind when selecting a maturity model
 Wagne
 r Maxsen\, a Brazilian\, was PMI Board Director\, he is international savv
 y and has 30+ years of expereince in projects\, programs and portfolios.

  https://www.linkedin.com/in/wagnermaxsen/&nbsp\;
 For questions contact&
 nbsp\;lgdarmstadt@pmi-gc.de
 
 
 
 
 {ebrestriction ids=\"&lt\;226&gt
 \;\"}&nbsp\;
 Join Zoom Meeting
 https://us02web.zoom.us/j/87253655092

  {/ebrestriction}&nbsp\;
 
 
 
 
 &nbsp\;
 &nbsp\;
 
DTSTART:20221020T160000Z
DTEND:20221020T173000Z
DTSTAMP:20220715T134553Z
ORGANIZER;CN=PMI Germany Chapter e.V.:MAILTO:website@pmi-gc.de
END:VEVENT
END:VCALENDAR